BEGIN:VCALENDAR
PRODID:-//AT Content Types//AT Event//EN
VERSION:1.0
BEGIN:VEVENT
DTSTART:20140703T090000Z
DTEND:20140703T140000Z
DCREATED:20140702T092044Z
UID:ATEvent-00068e148dd44d6f8cd62e2a43eb51e3
SEQUENCE:0
LAST-MODIFIED:20140702T092132Z
SUMMARY:Orientamento\: dimensioni e strumenti per l’occupabilita'
LOCATION:Roma
PRIORITY:3
TRANSP:0
END:VEVENT
END:VCALENDAR
