BEGIN:VCALENDAR
PRODID:-//AT Content Types//AT Event//EN
VERSION:1.0
BEGIN:VEVENT
DTSTART:20131002T073000Z
DTEND:20131002T120000Z
DCREATED:20130920T064908Z
UID:ATEvent-757330b4755044e1843bff6be07afc7b
SEQUENCE:0
LAST-MODIFIED:20130924T133534Z
SUMMARY:Partenariati multilaterali ammessi a contributo
LOCATION:Roma  Auditorium Isfol
PRIORITY:3
TRANSP:0
END:VEVENT
END:VCALENDAR
