BEGIN:VCALENDAR
PRODID:-//AT Content Types//AT Event//EN
VERSION:1.0
BEGIN:VEVENT
DTSTART:20130625T070000Z
DTEND:20130625T150000Z
DCREATED:20130621T071613Z
UID:ATEvent-0c2d5271b0c4495690fa288a33006dcd
SEQUENCE:0
LAST-MODIFIED:20130621T075212Z
SUMMARY:Peer Review - Regione Umbria
DESCRIPTION:Conduzione di una Peer Review  rivolta alle strutture di i
 struzione e formazione professionale
LOCATION:Perugia
PRIORITY:3
TRANSP:0
END:VEVENT
END:VCALENDAR
