BEGIN:VCALENDAR
PRODID:-//AT Content Types//AT Event//EN
VERSION:1.0
BEGIN:VEVENT
DTSTART:20150514T070000Z
DTEND:20150609T153000Z
DCREATED:20150505T061751Z
UID:ATEvent-cf80420cee2d443d9d0c33d3d92bfb15
SEQUENCE:0
LAST-MODIFIED:20150505T061826Z
SUMMARY:Percorso di orientamento specialistico Isfol per Garanzia Giovani
LOCATION:Roma - ISFOL Sala CdA
PRIORITY:3
TRANSP:0
END:VEVENT
END:VCALENDAR
