BEGIN:VCALENDAR
PRODID:-//AT Content Types//AT Event//EN
VERSION:2.0
METHOD:PUBLISH
BEGIN:VEVENT
DTSTAMP:20260426T023246Z
CREATED:20150317T105444Z
UID:ATEvent-e59bbb2a13b84d0ab025597899dbcac2
LAST-MODIFIED:20150317T105520Z
SUMMARY:Un percorso di orientamento per i giovani
DTSTART:20150319T083000Z
DTEND:20150319T123000Z
LOCATION:Roma ISFOL Auditorium
CLASS:PUBLIC
END:VEVENT
END:VCALENDAR
