BEGIN:VCALENDAR
PRODID:-//AT Content Types//AT Event//EN
VERSION:1.0
BEGIN:VEVENT
DTSTART:20140321T090000Z
DTEND:20140321T121500Z
DCREATED:20140314T082117Z
UID:ATEvent-a77d495ea0944199beb6b47a003427cb
SEQUENCE:0
LAST-MODIFIED:20140314T082145Z
SUMMARY:Projet Grundtvig Evolve  Visit of the Wise Owls’ delegation at ISFOL
LOCATION:Roma - ISFOL - Sala CdA
PRIORITY:3
TRANSP:0
END:VEVENT
END:VCALENDAR
