BEGIN:VCALENDAR
PRODID:-//AT Content Types//AT Event//EN
VERSION:2.0
METHOD:PUBLISH
BEGIN:VEVENT
DTSTAMP:20260426T004721Z
CREATED:20141113T134633Z
UID:ATEvent-7667c514152f4bc587eb7253e71b4b00
LAST-MODIFIED:20141113T135036Z
SUMMARY:Punti nazionali di coordinamento EQF
DTSTART:20141118T083000Z
DTEND:20141118T133000Z
LOCATION:Bruxelles
CLASS:PUBLIC
END:VEVENT
END:VCALENDAR
