BEGIN:VCALENDAR
PRODID:-//AT Content Types//AT Event//EN
VERSION:1.0
BEGIN:VEVENT
DTSTART:20150311T080000Z
DTEND:20150312T120000Z
DCREATED:20150226T104815Z
UID:ATEvent-d8c65ae431ff429aa489f6383279b05c
SEQUENCE:0
LAST-MODIFIED:20150226T104849Z
SUMMARY:Regolamenti Europei e programmazione comunitaria
LOCATION:Roma ISFOL
PRIORITY:3
TRANSP:0
END:VEVENT
END:VCALENDAR
