BEGIN:VCALENDAR
PRODID:-//AT Content Types//AT Event//EN
VERSION:1.0
BEGIN:VEVENT
DTSTART:20131007T070000Z
DTEND:20131007T143000Z
DCREATED:20131004T121517Z
UID:ATEvent-3b43230af3124c8a97ff961f452b06dc
SEQUENCE:0
LAST-MODIFIED:20131004T121608Z
SUMMARY:Reinforcing Policy Learning for Roma Inclusion
LOCATION:Roma\, UNAR  Largo Chigi\, 16
PRIORITY:3
TRANSP:0
END:VEVENT
END:VCALENDAR
