BEGIN:VCALENDAR
PRODID:-//AT Content Types//AT Event//EN
VERSION:1.0
BEGIN:VEVENT
DTSTART:20150320T083000Z
DTEND:20150320T123000Z
DCREATED:20150316T082821Z
UID:ATEvent-edc438ccc86145458f313d1d1d3cfc14
SEQUENCE:0
LAST-MODIFIED:20150316T082841Z
SUMMARY:Riunione congiunta dei Punti Nazionali EQF\, Centri Europass e Centri Euroguidance
LOCATION:Bruxelles
PRIORITY:3
TRANSP:0
END:VEVENT
END:VCALENDAR
