BEGIN:VCALENDAR
PRODID:-//AT Content Types//AT Event//EN
VERSION:1.0
BEGIN:VEVENT
DTSTART:20140915T220000Z
DTEND:20140916T220000Z
DCREATED:20140909T100341Z
UID:ATEvent-4621f09221124a06b660c18b971941d4
SEQUENCE:0
LAST-MODIFIED:20140909T100511Z
SUMMARY:Riunione del Education&Training2020 Technical Working Group-Adult Learning
LOCATION:Bruxelles
PRIORITY:3
TRANSP:0
END:VEVENT
END:VCALENDAR
