BEGIN:VCALENDAR
PRODID:-//AT Content Types//AT Event//EN
VERSION:2.0
METHOD:PUBLISH
BEGIN:VEVENT
DTSTAMP:20260426T005022Z
CREATED:20140909T100739Z
UID:ATEvent-71cc3ba575dd4307a952e1d18ac61055
LAST-MODIFIED:20140909T100848Z
SUMMARY:Riunione del Employment & Change Advisory Committee di Eurofound
DTSTART:20140917T220000Z
DTEND:20140917T220000Z
LOCATION:Bruxelles
CLASS:PUBLIC
END:VEVENT
END:VCALENDAR
