BEGIN:VCALENDAR
PRODID:-//AT Content Types//AT Event//EN
VERSION:2.0
METHOD:PUBLISH
BEGIN:VEVENT
DTSTAMP:20260426T005122Z
CREATED:20140331T135303Z
UID:ATEvent-b2de099bf04149828b83741bba4d56c0
LAST-MODIFIED:20140331T135607Z
SUMMARY:Riunione  dell’advisory committee on employment and change di eurofound
DTSTART:20140326T090000Z
DTEND:20140326T145000Z
LOCATION:Eurofound\, Dublino
CLASS:PUBLIC
END:VEVENT
END:VCALENDAR
