BEGIN:VCALENDAR
PRODID:-//AT Content Types//AT Event//EN
VERSION:2.0
METHOD:PUBLISH
BEGIN:VEVENT
DTSTAMP:20260426T005038Z
CREATED:20130910T131625Z
UID:ATEvent-731a25e4a5a74123ae6f0bf113848af9
LAST-MODIFIED:20130916T062851Z
SUMMARY:How to involve stakeholders for Roma inclusion under the European code of conduct on partnership
DTSTART:20130919T081500Z
DTEND:20130920T131500Z
LOCATION:Sofia
CLASS:PUBLIC
END:VEVENT
END:VCALENDAR
