BEGIN:VCALENDAR
PRODID:-//AT Content Types//AT Event//EN
VERSION:2.0
METHOD:PUBLISH
BEGIN:VEVENT
DTSTAMP:20260426T004714Z
CREATED:20150213T101117Z
UID:ATEvent-03896cd8d4174e08b1f27a4ef312376e
LAST-MODIFIED:20150213T101138Z
SUMMARY:SCELTE\: SCuola Economia Lavoro e TErritorio
DTSTART:20150220T080000Z
DTEND:20150220T123000Z
LOCATION:Termini Imerese (PA)
CLASS:PUBLIC
END:VEVENT
END:VCALENDAR
