BEGIN:VCALENDAR
PRODID:-//AT Content Types//AT Event//EN
VERSION:1.0
BEGIN:VEVENT
DTSTART:20140611T073000Z
DTEND:20140612T153000Z
DCREATED:20140611T063129Z
UID:ATEvent-c01ff41c4cac40c6b9196f065bdb687e
SEQUENCE:0
LAST-MODIFIED:20140611T063147Z
SUMMARY:Seminario preparatorio per la presentazione di progetti nel programma Erasmus+\: gioventu' in Azione
LOCATION:Torino
PRIORITY:3
TRANSP:0
END:VEVENT
END:VCALENDAR
