BEGIN:VCALENDAR
PRODID:-//AT Content Types//AT Event//EN
VERSION:2.0
METHOD:PUBLISH
BEGIN:VEVENT
DTSTAMP:20260426T004640Z
CREATED:20131104T134637Z
UID:ATEvent-9fa2cdbbbb7447f196742cf1f4bed845
LAST-MODIFIED:20131104T134840Z
SUMMARY:Skills Strategy Advisory Group dell’Ocse
DTSTART:20131104T090000Z
DTEND:20131104T160000Z
LOCATION:Parigi
CLASS:PUBLIC
END:VEVENT
END:VCALENDAR
