BEGIN:VCALENDAR
PRODID:-//AT Content Types//AT Event//EN
VERSION:2.0
METHOD:PUBLISH
BEGIN:VEVENT
DTSTAMP:20260426T005036Z
CREATED:20150318T065754Z
UID:ATEvent-609f759b5ede4d7480715738da3ee1e3
LAST-MODIFIED:20150318T065822Z
SUMMARY:Primo incontro della Stakeholder committee del progetto Praline
DTSTART:20150318T083000Z
DTEND:20150318T120000Z
LOCATION:Roma ISFOL
CLASS:PUBLIC
END:VEVENT
END:VCALENDAR
