BEGIN:VCALENDAR
PRODID:-//AT Content Types//AT Event//EN
VERSION:2.0
METHOD:PUBLISH
BEGIN:VEVENT
DTSTAMP:20260426T004644Z
CREATED:20131118T144158Z
UID:ATEvent-40eb1533a47745a7bb7c7be71badac75
LAST-MODIFIED:20131127T115929Z
SUMMARY:2° Steering Group della rete transnazionale Active Inclusion
DTSTART:20131210T080000Z
DTEND:20131211T120000Z
LOCATION:Amburgo
CLASS:PUBLIC
END:VEVENT
END:VCALENDAR
