BEGIN:VCALENDAR
PRODID:-//AT Content Types//AT Event//EN
VERSION:1.0
BEGIN:VEVENT
DTSTART:20140924T220000Z
DTEND:20140924T220000Z
DCREATED:20141002T110036Z
UID:ATEvent-4b4626f9b60c4400a6c6298450beb684
SEQUENCE:0
LAST-MODIFIED:20141002T112645Z
SUMMARY:Supporto alla redazione dei Rapporti Finali dei progetti TOI finanziati nel 2012
LOCATION:Roma
PRIORITY:3
TRANSP:0
END:VEVENT
END:VCALENDAR
