BEGIN:VCALENDAR
PRODID:-//AT Content Types//AT Event//EN
VERSION:2.0
METHOD:PUBLISH
BEGIN:VEVENT
DTSTAMP:20260426T005037Z
CREATED:20141002T110252Z
UID:ATEvent-4b6b54989f894c30b492c960423d6829
LAST-MODIFIED:20141016T125028Z
SUMMARY:Progetti TOI
DTSTART:20141021T220000Z
DTEND:20141021T220000Z
LOCATION:Isfol
CLASS:PUBLIC
END:VEVENT
END:VCALENDAR
