BEGIN:VCALENDAR
PRODID:-//AT Content Types//AT Event//EN
VERSION:1.0
BEGIN:VEVENT
DTSTART:20120626T070000Z
DTEND:20120626T100000Z
DCREATED:20120622T192521Z
UID:ATEvent-678ab9567f7b414e84ed29eb4a818fde
SEQUENCE:0
LAST-MODIFIED:20131018T121129Z
SUMMARY:Tavolo di lavoro sulla valutazione sensibile alle diverse forme di discriminazione
LOCATION:Roma\, Isfol\, Corso d'Italia\, 33
PRIORITY:3
TRANSP:0
END:VEVENT
END:VCALENDAR
