BEGIN:VCALENDAR
PRODID:-//AT Content Types//AT Event//EN
VERSION:1.0
BEGIN:VEVENT
DTSTART:20150205T080000Z
DTEND:20150205T123000Z
DCREATED:20150206T080826Z
UID:ATEvent-1c45018582d3457b8715ee69e7b5f997
SEQUENCE:0
LAST-MODIFIED:20150206T080850Z
SUMMARY:Tecnici superiori al lavoro. Gli esiti occupazionali dei primi diplomati
LOCATION:Roma
PRIORITY:3
TRANSP:0
END:VEVENT
END:VCALENDAR
