BEGIN:VCALENDAR
PRODID:-//AT Content Types//AT Event//EN
VERSION:1.0
BEGIN:VEVENT
DTSTART:20131128T083000Z
DTEND:20131128T153000Z
DCREATED:20131122T122714Z
UID:ATEvent-e4f4a50f4a3b418cbf2f284785c39080
SEQUENCE:0
LAST-MODIFIED:20131122T122759Z
SUMMARY:The Youth Guarantee\: the challenges of implementation
LOCATION:Madrid
PRIORITY:3
TRANSP:0
END:VEVENT
END:VCALENDAR
