BEGIN:VCALENDAR
PRODID:-//AT Content Types//AT Event//EN
VERSION:2.0
METHOD:PUBLISH
BEGIN:VEVENT
DTSTAMP:20260426T004720Z
CREATED:20131014T124751Z
UID:ATEvent-18bec06d9a714e1c834d4728933836a1
LAST-MODIFIED:20131017T122935Z
SUMMARY:Rete Transnazionale Fse Mobility
DTSTART:20131023T070000Z
DTEND:20131024T150000Z
LOCATION:Gent (Belgio)
CLASS:PUBLIC
END:VEVENT
END:VCALENDAR
