BEGIN:VCALENDAR
PRODID:-//AT Content Types//AT Event//EN
VERSION:1.0
BEGIN:VEVENT
DTSTART:20140626T073000Z
DTEND:20140627T110000Z
DCREATED:20140612T090052Z
UID:ATEvent-42be9348ea95441db8c646918344f454
SEQUENCE:0
LAST-MODIFIED:20140612T090115Z
SUMMARY:TLN Mobility – 5th Network Meeting
LOCATION:Stockholm
PRIORITY:3
TRANSP:0
END:VEVENT
END:VCALENDAR
