BEGIN:VCALENDAR
PRODID:-//AT Content Types//AT Event//EN
VERSION:2.0
METHOD:PUBLISH
BEGIN:VEVENT
DTSTAMP:20260426T005121Z
CREATED:20141003T120745Z
UID:ATEvent-2d417a70119043d884192212e84b64fe
LAST-MODIFIED:20141016T124904Z
SUMMARY:Transnational mobility
DTSTART:20141022T070000Z
DTEND:20141022T154500Z
LOCATION:Berlino
CATEGORIES:Europass,Euroguidance
CLASS:PUBLIC
END:VEVENT
END:VCALENDAR
