BEGIN:VCALENDAR
PRODID:-//AT Content Types//AT Event//EN
VERSION:2.0
METHOD:PUBLISH
BEGIN:VEVENT
DTSTAMP:20260426T005001Z
CREATED:20150429T125544Z
UID:ATEvent-07fb5b7a6be644d79c40fbeac3716a97
LAST-MODIFIED:20150429T125615Z
SUMMARY:Una risorsa in più\:  il Comitato unico di garanzia a servizio dell’Istituto.
DTSTART:20150510T220000Z
DTEND:20150510T220000Z
LOCATION:ISFOL – Sala Auditorium
CLASS:PUBLIC
END:VEVENT
END:VCALENDAR
