BEGIN:VCALENDAR
PRODID:-//AT Content Types//AT Event//EN
VERSION:2.0
METHOD:PUBLISH
BEGIN:VEVENT
DTSTAMP:20260426T005231Z
CREATED:20140129T142030Z
UID:ATEvent-53fad30b8e3742f4bbe57ad8eeb08235
LAST-MODIFIED:20140129T142159Z
SUMMARY:Visita della Delegazione del Ministero del lavoro della Bulgaria
DTSTART:20140129T110000Z
DTEND:20140130T123000Z
LOCATION:Roma Ministero del lavoro\, Via Flavia 6
CLASS:PUBLIC
END:VEVENT
END:VCALENDAR
