BEGIN:VCALENDAR
PRODID:-//AT Content Types//AT Event//EN
VERSION:2.0
METHOD:PUBLISH
BEGIN:VEVENT
DTSTAMP:20260419T224607Z
CREATED:20121005T132039Z
UID:ATEvent-39a3e7a6fff8463f9023edd3483b4061
LAST-MODIFIED:20121005T132250Z
SUMMARY:Io Lavoro
DTSTART:20121012T080000Z
DTEND:20121013T150000Z
LOCATION:Torino
CLASS:PUBLIC
END:VEVENT
END:VCALENDAR
