BEGIN:VCALENDAR
PRODID:-//AT Content Types//AT Event//EN
VERSION:2.0
METHOD:PUBLISH
BEGIN:VEVENT
DTSTAMP:20260419T191229Z
CREATED:20121214T105716Z
UID:ATEvent-324ea009d25844409d957446f6691642
LAST-MODIFIED:20121214T124915Z
SUMMARY:European Job Days
DTSTART:20121217T090000Z
DTEND:20121217T130000Z
LOCATION:Giulianova
CLASS:PUBLIC
END:VEVENT
END:VCALENDAR
