BEGIN:VCALENDAR
PRODID:-//AT Content Types//AT Event//EN
VERSION:1.0
BEGIN:VEVENT
DTSTART:20120620T220000Z
DTEND:20120622T220000Z
DCREATED:20120621T100657Z
UID:ATEvent-e81a633a-d543-4ee4-a8aa-173a5f64ae56
SEQUENCE:0
LAST-MODIFIED:20120625T153754Z
SUMMARY:Festival del lavoro 2012
LOCATION:Brescia
PRIORITY:3
TRANSP:0
END:VEVENT
END:VCALENDAR
