BEGIN:VCALENDAR
PRODID:-//AT Content Types//AT Event//EN
VERSION:2.0
METHOD:PUBLISH
BEGIN:VEVENT
DTSTAMP:20260420T003020Z
CREATED:20120921T092921Z
UID:ATEvent-4bd6f3087ff04bda8c222b73e53f953f
LAST-MODIFIED:20120921T093103Z
SUMMARY:Il multilinguismo in Europa 26-28 sett 2012
DTSTART:20120926T070000Z
DTEND:20120928T160000Z
LOCATION:Limassol (Cipro)
CLASS:PUBLIC
END:VEVENT
END:VCALENDAR
