BEGIN:VCALENDAR
PRODID:-//AT Content Types//AT Event//EN
VERSION:1.0
BEGIN:VEVENT
DTSTART:20120514T060000Z
DTEND:20120514T160000Z
DCREATED:20120508T075058Z
UID:ATEvent-78e04c8f-92c1-4ec2-8b23-56b80063c607
SEQUENCE:0
LAST-MODIFIED:20120705T223606Z
SUMMARY:La collaborazione Sistan per il miglioramento della produzione delle statistiche ufficiali
LOCATION:Roma\, Isfol\, Corso d'Italia\, 33
PRIORITY:3
TRANSP:0
END:VEVENT
END:VCALENDAR
