BEGIN:VCALENDAR
PRODID:-//AT Content Types//AT Event//EN
VERSION:1.0
BEGIN:VEVENT
DTSTART:20120926T070000Z
DTEND:20120926T110000Z
DCREATED:20120924T134112Z
UID:ATEvent-6d577335a1e647d0aa70eb71684684ec
SEQUENCE:0
LAST-MODIFIED:20120924T134529Z
SUMMARY:Presentazione del Rapporto Svimez 2012
LOCATION:Roma\, Tempio di Adriano\, Piazza di Pietra
PRIORITY:3
TRANSP:0
END:VEVENT
END:VCALENDAR
