BEGIN:VCALENDAR
PRODID:-//AT Content Types//AT Event//EN
VERSION:1.0
BEGIN:VEVENT
DTSTART:20120605T220000Z
DTEND:20120605T220000Z
DCREATED:20120515T091450Z
UID:ATEvent-78a9a2a1-ea1c-4cae-b26e-c52161700943
SEQUENCE:0
LAST-MODIFIED:20120621T131335Z
SUMMARY:Rete nazionale di Peer Review tra Istituti scolastici e Centri di Formazione Professionale
LOCATION:Roma\, Isfol\, Corso d'Italia\, 33
PRIORITY:3
TRANSP:0
END:VEVENT
END:VCALENDAR
