BEGIN:VCALENDAR
PRODID:-//AT Content Types//AT Event//EN
VERSION:1.0
BEGIN:VEVENT
DTSTART:20120925T070000Z
DTEND:20120926T160000Z
DCREATED:20120924T074621Z
UID:ATEvent-048ad8c8c3aa4fd4b2e18d3a6c186d21
SEQUENCE:0
LAST-MODIFIED:20120924T074942Z
SUMMARY:The Way Forward – post 2014\: A new Common Framework
LOCATION:Londra
PRIORITY:3
TRANSP:0
END:VEVENT
END:VCALENDAR
