BEGIN:VCALENDAR
PRODID:-//AT Content Types//AT Event//EN
VERSION:2.0
METHOD:PUBLISH
BEGIN:VEVENT
DTSTAMP:20260420T052254Z
CREATED:20120621T094315Z
UID:ATEvent-fe3f8bab-1563-4155-b991-0ee80c704098
LAST-MODIFIED:20120625T154645Z
SUMMARY:Vita e lavoro al giusto ritmo
DTSTART:20120606T220000Z
DTEND:20120606T220000Z
LOCATION:Parma\, Cinema Edison\, Largo 8 marzo 9/b
CLASS:PUBLIC
END:VEVENT
END:VCALENDAR
