BEGIN:VCALENDAR
PRODID:-//AT Content Types//AT Event//EN
VERSION:2.0
METHOD:PUBLISH
BEGIN:VEVENT
DTSTAMP:20260419T224656Z
CREATED:20121015T081041Z
UID:ATEvent-cdcda363118148eeaf9bfb8e411c346f
LAST-MODIFIED:20121015T081104Z
SUMMARY:XIII edizione Orientasud
DTSTART:20121011T080000Z
DTEND:20121013T130000Z
LOCATION:Napoli
CLASS:PUBLIC
END:VEVENT
END:VCALENDAR
